BEGIN:VCALENDAR
VERSION:2.0
PRODID:-//ChamberMaster//Event Calendar 2.0//EN
METHOD:PUBLISH
X-PUBLISHED-TTL:P3D
REFRESH-INTERVAL:P3D
CALSCALE:GREGORIAN
BEGIN:VEVENT
DTSTART:20251001T210000Z
DTEND:20251002T000000Z
X-MICROSOFT-CDO-ALLDAYEVENT:FALSE
SUMMARY:Spooky Party
DESCRIPTION:Spooky season starts here - come join the fun!\n\n\n\nCostume Contest - Free Entry\n\n\n\nWine\, Mocktails & Food\n\n\n\nCrafts and Dance\n\n\n\nDonate $30 to design your own spooky glass\n\n\n\nRaffle to Support SOCIL Disability Friendly Event\n\n\n\nIf you have questions\, need accommodations or would like to donate contact Jeff Williams with SOCIL 740-689-1494 ext. 205.
X-ALT-DESC;FMTTYPE=text/html:Spooky season starts here - come join the fun!<br />\n<br />\nCostume Contest - Free Entry<br />\n<br />\nWine\, Mocktails &amp\; Food<br />\n<br />\nCrafts and Dance<br />\n<br />\nDonate $30 to design your own spooky glass<br />\n<br />\nRaffle to Support SOCIL Disability Friendly Event<br />\n<br />\nIf you have questions\, need accommodations or would like to donate contact Jeff Williams with SOCIL 740-689-1494 ext. 205.
LOCATION:Valley View Hills Winery 29176 Klump Road Sugar Grove\, Ohio 43155
UID:e.3121.1226
SEQUENCE:3
DTSTAMP:20260425T032638Z
URL:http://lancoc.chambermaster.com/events/details/spooky-party-1226
END:VEVENT

END:VCALENDAR
